{
 "currentVersion": 11.3,
 "serviceDescription": "DEM_DESARROLLO_URBANO",
 "name": "DEM_DESARROLLO_URBANO",
 "description": "",
 "extent": {
  "xmin": 581583.0477999998,
  "ymin": 2105725.2767,
  "xmax": 584043.0477999998,
  "ymax": 2107555.2767,
  "spatialReference": {
   "wkid": 32614,
   "latestWkid": 32614
  }
 },
 "initialExtent": {
  "xmin": 581583.0477999998,
  "ymin": 2105725.2767,
  "xmax": 584043.0477999998,
  "ymax": 2107555.2767,
  "spatialReference": {
   "wkid": 32614,
   "latestWkid": 32614
  }
 },
 "fullExtent": {
  "xmin": 581583.0477999998,
  "ymin": 2105725.2767,
  "xmax": 584043.0477999998,
  "ymax": 2107555.2767,
  "spatialReference": {
   "wkid": 32614,
   "latestWkid": 32614
  }
 },
 "sortableFields": "",
 "bandCount": 1,
 "pixelType": "F32",
 "minValues": [
  2131.50927734375
 ],
 "maxValues": [
  2168.85888671875
 ],
 "meanValues": [
  2152.0178070262345
 ],
 "stdvValues": [
  8.160222098048296
 ],
 "hasMultidimensions": false,
 "pixelSizeX": 10,
 "pixelSizeY": 10,
 "meanPixelSize": 10,
 "datasetFormat": "FGDBR",
 "uncompressedSize": 180072,
 "blockWidth": 128,
 "blockHeight": 128,
 "compressionType": "NONE",
 "bandNames": [
  "Band_1"
 ],
 "allowCopy": true,
 "allowAnalysis": true,
 "itemAccess": false,
 "inspectionCapabilities": "",
 "minPixelSize": 0,
 "maxPixelSize": 0,
 "copyrightText": "",
 "serviceDataType": "esriImageServiceDataTypeGeneric",
 "serviceSourceType": "esriImageServiceSourceTypeDataset",
 "objectIdField": "",
 "fields": [],
 "capabilities": "Image,Metadata,Mensuration",
 "defaultMosaicMethod": "Center",
 "allowedMosaicMethods": "",
 "sortField": "",
 "sortValue": null,
 "sortAscending": true,
 "mosaicOperator": "First",
 "defaultCompressionQuality": 75,
 "defaultResamplingMethod": "Bilinear",
 "maxImageHeight": 4100,
 "maxImageWidth": 15000,
 "allowRasterFunction": true,
 "rasterFunctionInfos": [
  {
   "name": "None",
   "description": "",
   "help": ""
  }
 ],
 "rasterTypeInfos": [
  {
   "name": "Raster Dataset",
   "description": "Supports all ArcGIS Raster Datasets",
   "help": ""
  }
 ],
 "mensurationCapabilities": "Basic",
 "hasHistograms": true,
 "hasColormap": false,
 "hasRasterAttributeTable": false,
 "minScale": 0,
 "maxScale": 0,
 "exportTilesAllowed": false,
 "supportsStatistics": false,
 "supportsAdvancedQueries": false,
 "editFieldsInfo": null,
 "ownershipBasedAccessControlForRasters": null,
 "allowComputeTiePoints": false,
 "useStandardizedQueries": true,
 "advancedQueryCapabilities": {
  "useStandardizedQueries": true,
  "supportsStatistics": false,
  "supportsOrderBy": false,
  "supportsDistinct": false,
  "supportsPagination": false
 },
 "spatialReference": {
  "wkid": 32614,
  "latestWkid": 32614
 }
}
