{
 "currentVersion": 11.3,
 "serviceDescription": "ORTO",
 "name": "ORTO",
 "description": "",
 "extent": {
  "xmin": 578846.783599,
  "ymin": 2101701.604623,
  "xmax": 582380.8835989999,
  "ymax": 2110805.404623,
  "spatialReference": {
   "wkid": 32614,
   "latestWkid": 32614
  }
 },
 "initialExtent": {
  "xmin": 578846.783599,
  "ymin": 2101701.604623,
  "xmax": 582380.8835989999,
  "ymax": 2110805.404623,
  "spatialReference": {
   "wkid": 32614,
   "latestWkid": 32614
  }
 },
 "fullExtent": {
  "xmin": 578846.783599,
  "ymin": 2101701.604623,
  "xmax": 582380.8835989999,
  "ymax": 2110805.404623,
  "spatialReference": {
   "wkid": 32614,
   "latestWkid": 32614
  }
 },
 "sortableFields": "",
 "bandCount": 3,
 "pixelType": "U8",
 "minValues": [
  0,
  0,
  0
 ],
 "maxValues": [
  255,
  255,
  255
 ],
 "meanValues": [
  50.988050130218,
  48.01817966932,
  46.30707046219
 ],
 "stdvValues": [
  70.067884169122,
  65.120161212184,
  62.801218705698
 ],
 "hasMultidimensions": false,
 "pixelSizeX": 0.09999999999999934,
 "pixelSizeY": 0.09999999999999795,
 "meanPixelSize": 0.09999999999999865,
 "datasetFormat": "TIFF",
 "uncompressedSize": 9652121874,
 "blockWidth": 1024,
 "blockHeight": 1024,
 "compressionType": "YCbCr JPEG",
 "bandNames": [
  "Band_1",
  "Band_2",
  "Band_3"
 ],
 "allowCopy": true,
 "allowAnalysis": true,
 "itemAccess": false,
 "inspectionCapabilities": "",
 "minPixelSize": 0,
 "maxPixelSize": 0,
 "copyrightText": "",
 "serviceDataType": "esriImageServiceDataTypeRGB",
 "serviceSourceType": "esriImageServiceSourceTypeDataset",
 "objectIdField": "",
 "fields": [],
 "capabilities": "Image,Metadata,Mensuration",
 "defaultMosaicMethod": "Center",
 "allowedMosaicMethods": "",
 "sortField": "",
 "sortValue": null,
 "sortAscending": true,
 "mosaicOperator": "First",
 "defaultCompressionQuality": 75,
 "defaultResamplingMethod": "Bilinear",
 "maxImageHeight": 4100,
 "maxImageWidth": 15000,
 "allowRasterFunction": true,
 "rasterFunctionInfos": [
  {
   "name": "None",
   "description": "",
   "help": ""
  }
 ],
 "rasterTypeInfos": [
  {
   "name": "Raster Dataset",
   "description": "Supports all ArcGIS Raster Datasets",
   "help": ""
  }
 ],
 "mensurationCapabilities": "Basic",
 "hasHistograms": true,
 "hasColormap": false,
 "hasRasterAttributeTable": false,
 "minScale": 0,
 "maxScale": 0,
 "exportTilesAllowed": false,
 "supportsStatistics": false,
 "supportsAdvancedQueries": false,
 "editFieldsInfo": null,
 "ownershipBasedAccessControlForRasters": null,
 "allowComputeTiePoints": false,
 "useStandardizedQueries": true,
 "advancedQueryCapabilities": {
  "useStandardizedQueries": true,
  "supportsStatistics": false,
  "supportsOrderBy": false,
  "supportsDistinct": false,
  "supportsPagination": false
 },
 "spatialReference": {
  "wkid": 32614,
  "latestWkid": 32614
 }
}
