{
 "currentVersion": 11.3,
 "serviceDescription": "OrtoL01024F116_tif",
 "name": "OrtoL01024F116_tif",
 "description": "",
 "extent": {
  "xmin": 576776.2000000001,
  "ymin": 2103817.8000000003,
  "xmax": 577889.8,
  "ymax": 2104649.8000000003,
  "spatialReference": {
   "wkid": 32614,
   "latestWkid": 32614
  }
 },
 "initialExtent": {
  "xmin": 576776.2000000001,
  "ymin": 2103817.8000000003,
  "xmax": 577889.8,
  "ymax": 2104649.8000000003,
  "spatialReference": {
   "wkid": 32614,
   "latestWkid": 32614
  }
 },
 "fullExtent": {
  "xmin": 576776.2000000001,
  "ymin": 2103817.8000000003,
  "xmax": 577889.8,
  "ymax": 2104649.8000000003,
  "spatialReference": {
   "wkid": 32614,
   "latestWkid": 32614
  }
 },
 "sortableFields": "",
 "bandCount": 3,
 "pixelType": "U8",
 "minValues": [
  0,
  0,
  0
 ],
 "maxValues": [
  255,
  255,
  255
 ],
 "meanValues": [
  98.398593482343,
  92.881620722453,
  91.611214365394
 ],
 "stdvValues": [
  61.466413857948,
  58.627849440947,
  57.608920451476
 ],
 "hasMultidimensions": false,
 "pixelSizeX": 0.19999999999999582,
 "pixelSizeY": 0.2,
 "meanPixelSize": 0.1999999999999979,
 "datasetFormat": "TIFF",
 "uncompressedSize": 69488640,
 "blockWidth": 1024,
 "blockHeight": 1024,
 "compressionType": "YCbCr JPEG",
 "bandNames": [
  "Band_1",
  "Band_2",
  "Band_3"
 ],
 "allowCopy": true,
 "allowAnalysis": true,
 "itemAccess": false,
 "inspectionCapabilities": "",
 "minPixelSize": 0,
 "maxPixelSize": 0,
 "copyrightText": "",
 "serviceDataType": "esriImageServiceDataTypeRGB",
 "serviceSourceType": "esriImageServiceSourceTypeDataset",
 "objectIdField": "",
 "fields": [],
 "capabilities": "Image,Metadata,Mensuration",
 "defaultMosaicMethod": "Center",
 "allowedMosaicMethods": "",
 "sortField": "",
 "sortValue": null,
 "sortAscending": true,
 "mosaicOperator": "First",
 "defaultCompressionQuality": 75,
 "defaultResamplingMethod": "Bilinear",
 "maxImageHeight": 4100,
 "maxImageWidth": 15000,
 "allowRasterFunction": true,
 "rasterFunctionInfos": [
  {
   "name": "None",
   "description": "",
   "help": ""
  }
 ],
 "rasterTypeInfos": [
  {
   "name": "Raster Dataset",
   "description": "Supports all ArcGIS Raster Datasets",
   "help": ""
  }
 ],
 "mensurationCapabilities": "Basic",
 "hasHistograms": true,
 "hasColormap": false,
 "hasRasterAttributeTable": false,
 "minScale": 0,
 "maxScale": 0,
 "exportTilesAllowed": false,
 "supportsStatistics": false,
 "supportsAdvancedQueries": false,
 "editFieldsInfo": null,
 "ownershipBasedAccessControlForRasters": null,
 "allowComputeTiePoints": false,
 "useStandardizedQueries": true,
 "advancedQueryCapabilities": {
  "useStandardizedQueries": true,
  "supportsStatistics": false,
  "supportsOrderBy": false,
  "supportsDistinct": false,
  "supportsPagination": false
 },
 "spatialReference": {
  "wkid": 32614,
  "latestWkid": 32614
 }
}
