{
 "currentVersion": 11.3,
 "serviceDescription": "OrtodDesarrolloUrbanoDEMO",
 "name": "OrtodDesarrolloUrbanoDEMO",
 "description": "",
 "extent": {
  "xmin": 581867.180109458,
  "ymin": 2105512.4993808684,
  "xmax": 584015.580109458,
  "ymax": 2107669.3993808683,
  "spatialReference": {
   "wkid": 32614,
   "latestWkid": 32614
  }
 },
 "initialExtent": {
  "xmin": 581867.180109458,
  "ymin": 2105512.4993808684,
  "xmax": 584015.580109458,
  "ymax": 2107669.3993808683,
  "spatialReference": {
   "wkid": 32614,
   "latestWkid": 32614
  }
 },
 "fullExtent": {
  "xmin": 581867.180109458,
  "ymin": 2105512.4993808684,
  "xmax": 584015.580109458,
  "ymax": 2107669.3993808683,
  "spatialReference": {
   "wkid": 32614,
   "latestWkid": 32614
  }
 },
 "sortableFields": "",
 "bandCount": 3,
 "pixelType": "U8",
 "minValues": [
  2,
  2,
  2
 ],
 "maxValues": [
  255,
  255,
  255
 ],
 "meanValues": [
  139.8576534991313,
  130.2854791722059,
  141.3061126171133
 ],
 "stdvValues": [
  64.9267866869985,
  61.27801024246772,
  53.5403665712312
 ],
 "hasMultidimensions": false,
 "pixelSizeX": 0.09999999999999566,
 "pixelSizeY": 0.09999999999999568,
 "meanPixelSize": 0.09999999999999568,
 "datasetFormat": "SDR",
 "uncompressedSize": 1390165188,
 "blockWidth": 128,
 "blockHeight": 128,
 "compressionType": "LZ77",
 "bandNames": [
  "Band_1",
  "Band_2",
  "Band_3"
 ],
 "allowCopy": true,
 "allowAnalysis": true,
 "itemAccess": false,
 "inspectionCapabilities": "",
 "minPixelSize": 0,
 "maxPixelSize": 0,
 "copyrightText": "",
 "serviceDataType": "esriImageServiceDataTypeRGB",
 "serviceSourceType": "esriImageServiceSourceTypeDataset",
 "objectIdField": "",
 "fields": [],
 "capabilities": "Image,Metadata,Mensuration",
 "defaultMosaicMethod": "Center",
 "allowedMosaicMethods": "",
 "sortField": "",
 "sortValue": null,
 "sortAscending": true,
 "mosaicOperator": "First",
 "defaultCompressionQuality": 75,
 "defaultResamplingMethod": "Bilinear",
 "maxImageHeight": 4100,
 "maxImageWidth": 15000,
 "allowRasterFunction": true,
 "rasterFunctionInfos": [
  {
   "name": "None",
   "description": "",
   "help": ""
  }
 ],
 "rasterTypeInfos": [
  {
   "name": "Raster Dataset",
   "description": "Supports all ArcGIS Raster Datasets",
   "help": ""
  }
 ],
 "mensurationCapabilities": "Basic",
 "hasHistograms": true,
 "hasColormap": false,
 "hasRasterAttributeTable": false,
 "minScale": 0,
 "maxScale": 0,
 "exportTilesAllowed": false,
 "supportsStatistics": false,
 "supportsAdvancedQueries": false,
 "editFieldsInfo": null,
 "ownershipBasedAccessControlForRasters": null,
 "allowComputeTiePoints": false,
 "useStandardizedQueries": true,
 "advancedQueryCapabilities": {
  "useStandardizedQueries": true,
  "supportsStatistics": false,
  "supportsOrderBy": false,
  "supportsDistinct": false,
  "supportsPagination": false
 },
 "spatialReference": {
  "wkid": 32614,
  "latestWkid": 32614
 }
}
