{
 "currentVersion": 11.3,
 "serviceDescription": "PREDIAL_CANCUN_ORTOFOTO",
 "name": "PREDIAL_CANCUN_ORTOFOTO",
 "description": "",
 "extent": {
  "xmin": 518519.5195629038,
  "ymin": 2341578.1724733496,
  "xmax": 519945.41956290364,
  "ymax": 2342616.4724733494,
  "spatialReference": {
   "wkid": 32616,
   "latestWkid": 32616
  }
 },
 "initialExtent": {
  "xmin": 518519.5195629038,
  "ymin": 2341578.1724733496,
  "xmax": 519945.41956290364,
  "ymax": 2342616.4724733494,
  "spatialReference": {
   "wkid": 32616,
   "latestWkid": 32616
  }
 },
 "fullExtent": {
  "xmin": 518519.5195629038,
  "ymin": 2341578.1724733496,
  "xmax": 519945.41956290364,
  "ymax": 2342616.4724733494,
  "spatialReference": {
   "wkid": 32616,
   "latestWkid": 32616
  }
 },
 "sortableFields": "",
 "bandCount": 3,
 "pixelType": "U8",
 "minValues": [
  0,
  0,
  0
 ],
 "maxValues": [
  255,
  255,
  255
 ],
 "meanValues": [
  79.7879627477784,
  83.66329899717056,
  85.4534112795229
 ],
 "stdvValues": [
  66.05725297009086,
  62.831454784856376,
  59.29807901380557
 ],
 "hasMultidimensions": false,
 "pixelSizeX": 0.09999999999998939,
 "pixelSizeY": 0.09999999999998206,
 "meanPixelSize": 0.09999999999998573,
 "datasetFormat": "FGDBR",
 "uncompressedSize": 444153591,
 "blockWidth": 128,
 "blockHeight": 128,
 "compressionType": "LZ77",
 "bandNames": [
  "Band_1",
  "Band_2",
  "Band_3"
 ],
 "allowCopy": true,
 "allowAnalysis": true,
 "itemAccess": false,
 "inspectionCapabilities": "",
 "minPixelSize": 0,
 "maxPixelSize": 0,
 "copyrightText": "",
 "serviceDataType": "esriImageServiceDataTypeRGB",
 "serviceSourceType": "esriImageServiceSourceTypeDataset",
 "objectIdField": "",
 "fields": [],
 "capabilities": "Image,Metadata,Mensuration",
 "defaultMosaicMethod": "Center",
 "allowedMosaicMethods": "",
 "sortField": "",
 "sortValue": null,
 "sortAscending": true,
 "mosaicOperator": "First",
 "defaultCompressionQuality": 75,
 "defaultResamplingMethod": "Bilinear",
 "maxImageHeight": 4100,
 "maxImageWidth": 15000,
 "allowRasterFunction": true,
 "rasterFunctionInfos": [
  {
   "name": "None",
   "description": "",
   "help": ""
  }
 ],
 "rasterTypeInfos": [
  {
   "name": "Raster Dataset",
   "description": "Supports all ArcGIS Raster Datasets",
   "help": ""
  }
 ],
 "mensurationCapabilities": "Basic",
 "hasHistograms": true,
 "hasColormap": false,
 "hasRasterAttributeTable": false,
 "minScale": 0,
 "maxScale": 0,
 "exportTilesAllowed": false,
 "supportsStatistics": false,
 "supportsAdvancedQueries": false,
 "editFieldsInfo": null,
 "ownershipBasedAccessControlForRasters": null,
 "allowComputeTiePoints": false,
 "useStandardizedQueries": true,
 "advancedQueryCapabilities": {
  "useStandardizedQueries": true,
  "supportsStatistics": false,
  "supportsOrderBy": false,
  "supportsDistinct": false,
  "supportsPagination": false
 },
 "spatialReference": {
  "wkid": 32616,
  "latestWkid": 32616
 }
}
