{
 "currentVersion": 11.3,
 "serviceDescription": "PREDIAL_CUAUTLANCINGO_ORTOFOTO_2020",
 "name": "PREDIAL_CUAUTLANCINGO_ORTOFOTO_2020",
 "description": "",
 "extent": {
  "xmin": 573110.1,
  "ymin": 2105779.7000000034,
  "xmax": 582033.3999999973,
  "ymax": 2119071.5999999996,
  "spatialReference": {
   "wkid": 32614,
   "latestWkid": 32614
  }
 },
 "initialExtent": {
  "xmin": 573110.1,
  "ymin": 2105779.7000000034,
  "xmax": 582033.3999999973,
  "ymax": 2119071.5999999996,
  "spatialReference": {
   "wkid": 32614,
   "latestWkid": 32614
  }
 },
 "fullExtent": {
  "xmin": 573110.1,
  "ymin": 2105779.7000000034,
  "xmax": 582033.3999999973,
  "ymax": 2119071.5999999996,
  "spatialReference": {
   "wkid": 32614,
   "latestWkid": 32614
  }
 },
 "sortableFields": "",
 "bandCount": 4,
 "pixelType": "U8",
 "minValues": [
  0,
  0,
  0,
  0
 ],
 "maxValues": [
  247,
  249,
  247,
  255
 ],
 "meanValues": [
  119.25932721713,
  112.95412844037,
  110.28195718654,
  132.55559440559
 ],
 "stdvValues": [
  40.898352742375,
  39.080028919206,
  38.67587429443,
  124.90246286979
 ],
 "hasMultidimensions": false,
 "pixelSizeX": 0.09999999999997052,
 "pixelSizeY": 0.09999999999997128,
 "meanPixelSize": 0.09999999999997089,
 "datasetFormat": "MrSID",
 "uncompressedSize": 47443044508,
 "blockWidth": 1024,
 "blockHeight": 128,
 "compressionType": "Wavelet (MG4)",
 "bandNames": [
  "Band_1",
  "Band_2",
  "Band_3",
  "Band_4"
 ],
 "allowCopy": true,
 "allowAnalysis": true,
 "itemAccess": false,
 "inspectionCapabilities": "",
 "minPixelSize": 0,
 "maxPixelSize": 0,
 "copyrightText": "",
 "serviceDataType": "esriImageServiceDataTypeGeneric",
 "serviceSourceType": "esriImageServiceSourceTypeDataset",
 "objectIdField": "",
 "fields": [],
 "capabilities": "Image,Metadata,Mensuration",
 "defaultMosaicMethod": "Center",
 "allowedMosaicMethods": "",
 "sortField": "",
 "sortValue": null,
 "sortAscending": true,
 "mosaicOperator": "First",
 "defaultCompressionQuality": 75,
 "defaultResamplingMethod": "Bilinear",
 "maxImageHeight": 4100,
 "maxImageWidth": 15000,
 "allowRasterFunction": true,
 "rasterFunctionInfos": [
  {
   "name": "None",
   "description": "",
   "help": ""
  }
 ],
 "rasterTypeInfos": [
  {
   "name": "Raster Dataset",
   "description": "Supports all ArcGIS Raster Datasets",
   "help": ""
  }
 ],
 "mensurationCapabilities": "Basic",
 "hasHistograms": true,
 "hasColormap": false,
 "hasRasterAttributeTable": false,
 "minScale": 0,
 "maxScale": 0,
 "exportTilesAllowed": false,
 "supportsStatistics": false,
 "supportsAdvancedQueries": false,
 "editFieldsInfo": null,
 "ownershipBasedAccessControlForRasters": null,
 "allowComputeTiePoints": false,
 "useStandardizedQueries": true,
 "advancedQueryCapabilities": {
  "useStandardizedQueries": true,
  "supportsStatistics": false,
  "supportsOrderBy": false,
  "supportsDistinct": false,
  "supportsPagination": false
 },
 "spatialReference": {
  "wkid": 32614,
  "latestWkid": 32614
 }
}
