View In:
ArcGIS JavaScript
ArcGIS Online Map Viewer
ArcGIS Earth
Service Description: DEM_Rio_tif
Name: DEM_Rio_tif
Description:
Single Fused Map Cache: false
Extent:
XMin: 578891.6749999998
YMin: 2101779.099300001
XMax: 582312.6749999998
YMax: 2110729.099300001
Spatial Reference: 32614
(32614)
Initial Extent:
XMin: 578891.6749999998
YMin: 2101779.099300001
XMax: 582312.6749999998
YMax: 2110729.099300001
Spatial Reference: 32614
(32614)
Full Extent:
XMin: 578891.6749999998
YMin: 2101779.099300001
XMax: 582312.6749999998
YMax: 2110729.099300001
Spatial Reference: 32614
(32614)
Pixel Size X: 1.0
Pixel Size Y: 1.0
Band Count: 1
Pixel Type: F32
RasterFunction Infos: {"rasterFunctionInfos": [{
"name": "None",
"description": "",
"help": ""
}]}
Mensuration Capabilities: Basic
Inspection Capabilities:
Has Histograms: true
Has Colormap: false
Has Multi Dimensions : false
Rendering Rule:
Min Scale: 0
Max Scale: 0
Copyright Text:
Service Data Type: esriImageServiceDataTypeGeneric
Min Values: 2077.822265625
Max Values: 2156.3051757812
Mean Values: 2112.5281094979
Standard Deviation Values: 11.116958067539
Object ID Field:
Fields:
None
Default Mosaic Method: Center
Allowed Mosaic Methods:
SortField:
SortValue: null
Mosaic Operator: First
Default Compression Quality: 75
Default Resampling Method: Bilinear
Max Record Count: null
Max Image Height: 4100
Max Image Width: 15000
Max Download Image Count: null
Max Mosaic Image Count: null
Allow Raster Function: true
Allow Copy: true
Allow Analysis: true
Allow Compute TiePoints: false
Supports Statistics: false
Supports Advanced Queries: false
Use StandardizedQueries: true
Raster Type Infos:
Name: Raster Dataset
Description: Supports all ArcGIS Raster Datasets
Help:
Has Raster Attribute Table: false
Edit Fields Info: null
Ownership Based AccessControl For Rasters: null
Child Resources:
Info
Histograms
Statistics
Key Properties
Legend
Raster Function Infos
Supported Operations:
Export Image
Identify
Measure
Compute Histograms
Compute Statistics Histograms
Get Samples
Compute Class Statistics
Query Boundary
Compute Pixel Location
Compute Angles
Validate
Project