View In:
ArcGIS JavaScript
ArcGIS Online Map Viewer
ArcGIS Earth
Service Description: HUAMANTLA_ORTOFOTO
Name: HUAMANTLA_ORTOFOTO
Description:
Single Fused Map Cache: false
Extent:
XMin: 612081.3999999999
YMin: 2132432.8999999994
XMax: 615065.2
YMax: 2140815.0999999996
Spatial Reference: 32614
(32614)
Initial Extent:
XMin: 612081.3999999999
YMin: 2132432.8999999994
XMax: 615065.2
YMax: 2140815.0999999996
Spatial Reference: 32614
(32614)
Full Extent:
XMin: 612081.3999999999
YMin: 2132432.8999999994
XMax: 615065.2
YMax: 2140815.0999999996
Spatial Reference: 32614
(32614)
Pixel Size X: 0.10000000000000156
Pixel Size Y: 0.10000000000000223
Band Count: 3
Pixel Type: U8
RasterFunction Infos: {"rasterFunctionInfos": [{
"name": "None",
"description": "",
"help": ""
}]}
Mensuration Capabilities: Basic
Inspection Capabilities:
Has Histograms: true
Has Colormap: false
Has Multi Dimensions : false
Rendering Rule:
Min Scale: 0
Max Scale: 0
Copyright Text:
Service Data Type: esriImageServiceDataTypeRGB
Min Values: 0, 0, 0
Max Values: 232, 241, 240
Mean Values: 84.209694088466, 78.844253823894, 62.270669698222
Standard Deviation Values: 42.547339501621, 40.332009228755, 37.817800561094
Object ID Field:
Fields:
None
Default Mosaic Method: Center
Allowed Mosaic Methods:
SortField:
SortValue: null
Mosaic Operator: First
Default Compression Quality: 75
Default Resampling Method: Bilinear
Max Record Count: null
Max Image Height: 4100
Max Image Width: 15000
Max Download Image Count: null
Max Mosaic Image Count: null
Allow Raster Function: true
Allow Copy: true
Allow Analysis: true
Allow Compute TiePoints: false
Supports Statistics: false
Supports Advanced Queries: false
Use StandardizedQueries: true
Raster Type Infos:
Name: Raster Dataset
Description: Supports all ArcGIS Raster Datasets
Help:
Has Raster Attribute Table: false
Edit Fields Info: null
Ownership Based AccessControl For Rasters: null
Child Resources:
Info
Histograms
Statistics
Key Properties
Legend
Raster Function Infos
Supported Operations:
Export Image
Identify
Measure
Compute Histograms
Compute Statistics Histograms
Get Samples
Compute Class Statistics
Query Boundary
Compute Pixel Location
Compute Angles
Validate
Project