View In:
ArcGIS JavaScript
ArcGIS Online Map Viewer
ArcGIS Earth
Service Description: HUAMANTLA_ORTOFOTO_TIF
Name: HUAMANTLA_ORTOFOTO_TIF
Description:
Single Fused Map Cache: false
Extent:
XMin: 612650.6
YMin: 2135299.6999999997
XMax: 613675.1
YMax: 2136275.5999999996
Spatial Reference: 32614
(32614)
Initial Extent:
XMin: 612650.6
YMin: 2135299.6999999997
XMax: 613675.1
YMax: 2136275.5999999996
Spatial Reference: 32614
(32614)
Full Extent:
XMin: 612650.6
YMin: 2135299.6999999997
XMax: 613675.1
YMax: 2136275.5999999996
Spatial Reference: 32614
(32614)
Pixel Size X: 0.1
Pixel Size Y: 0.09999999999999046
Band Count: 3
Pixel Type: U8
RasterFunction Infos: {"rasterFunctionInfos": [{
"name": "None",
"description": "",
"help": ""
}]}
Mensuration Capabilities: Basic
Inspection Capabilities:
Has Histograms: true
Has Colormap: false
Has Multi Dimensions : false
Rendering Rule:
Min Scale: 0
Max Scale: 0
Copyright Text:
Service Data Type: esriImageServiceDataTypeRGB
Min Values: 2, 2, 2
Max Values: 255, 255, 255
Mean Values: 132.19202429879, 125.91363580172, 123.42809875904
Standard Deviation Values: 65.117316336656, 64.850241846256, 61.001171145527
Object ID Field:
Fields:
None
Default Mosaic Method: Center
Allowed Mosaic Methods:
SortField:
SortValue: null
Mosaic Operator: First
Default Compression Quality: 75
Default Resampling Method: Bilinear
Max Record Count: null
Max Image Height: 4100
Max Image Width: 15000
Max Download Image Count: null
Max Mosaic Image Count: null
Allow Raster Function: true
Allow Copy: true
Allow Analysis: true
Allow Compute TiePoints: false
Supports Statistics: false
Supports Advanced Queries: false
Use StandardizedQueries: true
Raster Type Infos:
Name: Raster Dataset
Description: Supports all ArcGIS Raster Datasets
Help:
Has Raster Attribute Table: false
Edit Fields Info: null
Ownership Based AccessControl For Rasters: null
Child Resources:
Info
Histograms
Statistics
Key Properties
Legend
Raster Function Infos
Supported Operations:
Export Image
Identify
Measure
Compute Histograms
Compute Statistics Histograms
Get Samples
Compute Class Statistics
Query Boundary
Compute Pixel Location
Compute Angles
Validate
Project