View In:
ArcGIS JavaScript
ArcGIS Online Map Viewer
ArcGIS Earth
Service Description: Mapa_Antiguo_Puebla_1937
Name: Mapa_Antiguo_Puebla_1937
Description:
Single Fused Map Cache: false
Extent:
XMin: -1.0934768990961833E7
YMin: 2157173.144357744
XMax: -1.0928276528462026E7
YMax: 2163612.2937852964
Spatial Reference: 102100
(3857)
Initial Extent:
XMin: -1.0934768990961833E7
YMin: 2157173.144357744
XMax: -1.0928276528462026E7
YMax: 2163612.2937852964
Spatial Reference: 102100
(3857)
Full Extent:
XMin: -1.0934768990961833E7
YMin: 2157173.144357744
XMax: -1.0928276528462026E7
YMax: 2163612.2937852964
Spatial Reference: 102100
(3857)
Pixel Size X: 1.736881353613338
Pixel Size Y: 1.703929459526923
Band Count: 4
Pixel Type: U8
RasterFunction Infos: {"rasterFunctionInfos": [{
"name": "None",
"description": "",
"help": ""
}]}
Mensuration Capabilities: Basic
Inspection Capabilities:
Has Histograms: true
Has Colormap: false
Has Multi Dimensions : false
Rendering Rule:
Min Scale: 0
Max Scale: 0
Copyright Text:
Service Data Type: esriImageServiceDataTypeGeneric
Min Values: 0, 0, 0, 0
Max Values: 255, 255, 255, 255
Mean Values: 151.19544672626, 151.19447679064, 151.19343458332, 254.98768791133
Standard Deviation Values: 57.436269100641, 57.434256317593, 57.433950480166, 1.0052467632168
Object ID Field:
Fields:
None
Default Mosaic Method: Center
Allowed Mosaic Methods:
SortField:
SortValue: null
Mosaic Operator: First
Default Compression Quality: 75
Default Resampling Method: Bilinear
Max Record Count: null
Max Image Height: 4100
Max Image Width: 15000
Max Download Image Count: null
Max Mosaic Image Count: null
Allow Raster Function: true
Allow Copy: true
Allow Analysis: true
Allow Compute TiePoints: false
Supports Statistics: false
Supports Advanced Queries: false
Use StandardizedQueries: true
Raster Type Infos:
Name: Raster Dataset
Description: Supports all ArcGIS Raster Datasets
Help:
Has Raster Attribute Table: false
Edit Fields Info: null
Ownership Based AccessControl For Rasters: null
Child Resources:
Info
Histograms
Statistics
Key Properties
Legend
Raster Function Infos
Supported Operations:
Export Image
Identify
Measure
Compute Histograms
Compute Statistics Histograms
Get Samples
Compute Class Statistics
Query Boundary
Compute Pixel Location
Compute Angles
Validate
Project