View In:
ArcGIS JavaScript
ArcGIS Online Map Viewer
ArcGIS Earth
Service Description: hillshade_republica
Name: hillshade_republica
Description:
Single Fused Map Cache: false
Extent:
XMin: 571146.1923310766
YMin: 319111.21550728753
XMax: 3574746.1923310766
YMax: 2349711.2155072875
Spatial Reference: PROJCS["WGS_1984_Lambert_Conformal_Conic",GEOGCS["GCS_WGS_1984",DATUM["D_WGS_1984",SPHEROID["WGS_1984",6378137.0,298.257223563]],PRIMEM["Greenwich",0.0],UNIT["Degree",0.0174532925199433]],PROJECTION["Lambert_Conformal_Conic"],PARAMETER["False_Easting",2000000.0],PARAMETER["False_Northing",0.0],PARAMETER["Central_Meridian",-102.0],PARAMETER["Standard_Parallel_1",17.5],PARAMETER["Standard_Parallel_2",29.5],PARAMETER["Latitude_Of_Origin",12.0],UNIT["Meter",1.0]]
Initial Extent:
XMin: 571146.1923310766
YMin: 319111.21550728753
XMax: 3574746.1923310766
YMax: 2349711.2155072875
Spatial Reference: PROJCS["WGS_1984_Lambert_Conformal_Conic",GEOGCS["GCS_WGS_1984",DATUM["D_WGS_1984",SPHEROID["WGS_1984",6378137.0,298.257223563]],PRIMEM["Greenwich",0.0],UNIT["Degree",0.0174532925199433]],PROJECTION["Lambert_Conformal_Conic"],PARAMETER["False_Easting",2000000.0],PARAMETER["False_Northing",0.0],PARAMETER["Central_Meridian",-102.0],PARAMETER["Standard_Parallel_1",17.5],PARAMETER["Standard_Parallel_2",29.5],PARAMETER["Latitude_Of_Origin",12.0],UNIT["Meter",1.0]]
Full Extent:
XMin: 571146.1923310766
YMin: 319111.21550728753
XMax: 3574746.1923310766
YMax: 2349711.2155072875
Spatial Reference: PROJCS["WGS_1984_Lambert_Conformal_Conic",GEOGCS["GCS_WGS_1984",DATUM["D_WGS_1984",SPHEROID["WGS_1984",6378137.0,298.257223563]],PRIMEM["Greenwich",0.0],UNIT["Degree",0.0174532925199433]],PROJECTION["Lambert_Conformal_Conic"],PARAMETER["False_Easting",2000000.0],PARAMETER["False_Northing",0.0],PARAMETER["Central_Meridian",-102.0],PARAMETER["Standard_Parallel_1",17.5],PARAMETER["Standard_Parallel_2",29.5],PARAMETER["Latitude_Of_Origin",12.0],UNIT["Meter",1.0]]
Pixel Size X: 200.0
Pixel Size Y: 200.0
Band Count: 1
Pixel Type: U8
RasterFunction Infos: {"rasterFunctionInfos": [{
"name": "None",
"description": "",
"help": ""
}]}
Mensuration Capabilities: Basic
Inspection Capabilities:
Has Histograms: true
Has Colormap: false
Has Multi Dimensions : false
Rendering Rule:
Min Scale: 0
Max Scale: 0
Copyright Text:
Service Data Type: esriImageServiceDataTypeGeneric
Min Values: 0
Max Values: 254
Mean Values: 163.4596587203599
Standard Deviation Values: 52.46805506784278
Object ID Field:
Fields:
None
Default Mosaic Method: Center
Allowed Mosaic Methods:
SortField:
SortValue: null
Mosaic Operator: First
Default Compression Quality: 75
Default Resampling Method: Bilinear
Max Record Count: null
Max Image Height: 4100
Max Image Width: 15000
Max Download Image Count: null
Max Mosaic Image Count: null
Allow Raster Function: true
Allow Copy: true
Allow Analysis: true
Allow Compute TiePoints: false
Supports Statistics: false
Supports Advanced Queries: false
Use StandardizedQueries: true
Raster Type Infos:
Name: Raster Dataset
Description: Supports all ArcGIS Raster Datasets
Help:
Has Raster Attribute Table: true
Edit Fields Info: null
Ownership Based AccessControl For Rasters: null
Child Resources:
Info
Raster Attribute Table
Histograms
Statistics
Key Properties
Legend
Raster Function Infos
Supported Operations:
Export Image
Identify
Measure
Compute Histograms
Compute Statistics Histograms
Get Samples
Compute Class Statistics
Query Boundary
Compute Pixel Location
Compute Angles
Validate
Project