View In:
ArcGIS JavaScript
ArcGIS Online Map Viewer
ArcGIS Earth
Service Description: orto_1_1_jpg
Name: orto_1_1_jpg
Description:
Single Fused Map Cache: false
Extent:
XMin: -1.106589069993747E7
YMin: 2281155.9181822008
XMax: -1.1059622863618087E7
YMax: 2293118.3131088307
Spatial Reference: 102100
(3857)
Initial Extent:
XMin: -1.106589069993747E7
YMin: 2281155.9181822008
XMax: -1.1059622863618087E7
YMax: 2293118.3131088307
Spatial Reference: 102100
(3857)
Full Extent:
XMin: -1.106589069993747E7
YMin: 2281155.9181822008
XMax: -1.1059622863618087E7
YMax: 2293118.3131088307
Spatial Reference: 102100
(3857)
Pixel Size X: 0.2985821417389117
Pixel Size Y: 0.2985821417389667
Band Count: 3
Pixel Type: U8
RasterFunction Infos: {"rasterFunctionInfos": [{
"name": "None",
"description": "",
"help": ""
}]}
Mensuration Capabilities: Basic
Inspection Capabilities:
Has Histograms: true
Has Colormap: false
Has Multi Dimensions : false
Rendering Rule:
Min Scale: 0
Max Scale: 0
Copyright Text:
Service Data Type: esriImageServiceDataTypeRGB
Min Values: 0, 0, 0
Max Values: 255, 255, 255
Mean Values: 83.507530448319, 84.769618518747, 86.368821118974
Standard Deviation Values: 52.733889881659, 46.663975845608, 42.893674612058
Object ID Field:
Fields:
None
Default Mosaic Method: Center
Allowed Mosaic Methods:
SortField:
SortValue: null
Mosaic Operator: First
Default Compression Quality: 75
Default Resampling Method: Bilinear
Max Record Count: null
Max Image Height: 4100
Max Image Width: 15000
Max Download Image Count: null
Max Mosaic Image Count: null
Allow Raster Function: true
Allow Copy: true
Allow Analysis: true
Allow Compute TiePoints: false
Supports Statistics: false
Supports Advanced Queries: false
Use StandardizedQueries: true
Raster Type Infos:
Name: Raster Dataset
Description: Supports all ArcGIS Raster Datasets
Help:
Has Raster Attribute Table: false
Edit Fields Info: null
Ownership Based AccessControl For Rasters: null
Child Resources:
Info
Histograms
Statistics
Key Properties
Legend
Raster Function Infos
Supported Operations:
Export Image
Identify
Measure
Compute Histograms
Compute Statistics Histograms
Get Samples
Compute Class Statistics
Query Boundary
Compute Pixel Location
Compute Angles
Validate
Project