View In:
ArcGIS JavaScript
ArcGIS Online Map Viewer
ArcGIS Earth
Service Description: orto_1_2_jpg
Name: orto_1_2_jpg
Description:
Single Fused Map Cache: false
Extent:
XMin: -1.106589069993747E7
YMin: 2269193.2246734286
XMax: -1.1059622863618087E7
YMax: 2281155.9181822008
Spatial Reference: 102100
(3857)
Initial Extent:
XMin: -1.106589069993747E7
YMin: 2269193.2246734286
XMax: -1.1059622863618087E7
YMax: 2281155.9181822008
Spatial Reference: 102100
(3857)
Full Extent:
XMin: -1.106589069993747E7
YMin: 2269193.2246734286
XMax: -1.1059622863618087E7
YMax: 2281155.9181822008
Spatial Reference: 102100
(3857)
Pixel Size X: 0.2985821417389117
Pixel Size Y: 0.2985821417389786
Band Count: 3
Pixel Type: U8
RasterFunction Infos: {"rasterFunctionInfos": [{
"name": "None",
"description": "",
"help": ""
}]}
Mensuration Capabilities: Basic
Inspection Capabilities:
Has Histograms: true
Has Colormap: false
Has Multi Dimensions : false
Rendering Rule:
Min Scale: 0
Max Scale: 0
Copyright Text:
Service Data Type: esriImageServiceDataTypeRGB
Min Values: 0, 0, 0
Max Values: 255, 255, 255
Mean Values: 91.5494830904, 86.451774539894, 90.954737343975
Standard Deviation Values: 51.628760086635, 47.385169221131, 44.389302628733
Object ID Field:
Fields:
None
Default Mosaic Method: Center
Allowed Mosaic Methods:
SortField:
SortValue: null
Mosaic Operator: First
Default Compression Quality: 75
Default Resampling Method: Bilinear
Max Record Count: null
Max Image Height: 4100
Max Image Width: 15000
Max Download Image Count: null
Max Mosaic Image Count: null
Allow Raster Function: true
Allow Copy: true
Allow Analysis: true
Allow Compute TiePoints: false
Supports Statistics: false
Supports Advanced Queries: false
Use StandardizedQueries: true
Raster Type Infos:
Name: Raster Dataset
Description: Supports all ArcGIS Raster Datasets
Help:
Has Raster Attribute Table: false
Edit Fields Info: null
Ownership Based AccessControl For Rasters: null
Child Resources:
Info
Histograms
Statistics
Key Properties
Legend
Raster Function Infos
Supported Operations:
Export Image
Identify
Measure
Compute Histograms
Compute Statistics Histograms
Get Samples
Compute Class Statistics
Query Boundary
Compute Pixel Location
Compute Angles
Validate
Project