View In:
ArcGIS JavaScript
ArcGIS Online Map Viewer
ArcGIS Earth
Service Description: ortofoto_2_2
Name: ortofoto_2_2
Description:
Single Fused Map Cache: false
Extent:
XMin: -1.106510363741177E7
YMin: 2269360.1320906566
XMax: -1.1053914868814385E7
YMax: 2281112.0266073607
Spatial Reference: 102100
(3857)
Initial Extent:
XMin: -1.106510363741177E7
YMin: 2269360.1320906566
XMax: -1.1053914868814385E7
YMax: 2281112.0266073607
Spatial Reference: 102100
(3857)
Full Extent:
XMin: -1.106510363741177E7
YMin: 2269360.1320906566
XMax: -1.1053914868814385E7
YMax: 2281112.0266073607
Spatial Reference: 102100
(3857)
Pixel Size X: 0.2985821417389831
Pixel Size Y: 0.29858214173897046
Band Count: 3
Pixel Type: U8
RasterFunction Infos: {"rasterFunctionInfos": [{
"name": "None",
"description": "",
"help": ""
}]}
Mensuration Capabilities: Basic
Inspection Capabilities:
Has Histograms: true
Has Colormap: false
Has Multi Dimensions : false
Rendering Rule:
Min Scale: 0
Max Scale: 0
Copyright Text:
Service Data Type: esriImageServiceDataTypeRGB
Min Values: 0, 0, 0
Max Values: 255, 255, 255
Mean Values: 158.8128549008, 157.37558488998, 157.40540000386
Standard Deviation Values: 58.607722675596, 57.662579001016, 56.784105304596
Object ID Field:
Fields:
None
Default Mosaic Method: Center
Allowed Mosaic Methods:
SortField:
SortValue: null
Mosaic Operator: First
Default Compression Quality: 75
Default Resampling Method: Bilinear
Max Record Count: null
Max Image Height: 4100
Max Image Width: 15000
Max Download Image Count: null
Max Mosaic Image Count: null
Allow Raster Function: true
Allow Copy: true
Allow Analysis: true
Allow Compute TiePoints: false
Supports Statistics: false
Supports Advanced Queries: false
Use StandardizedQueries: true
Raster Type Infos:
Name: Raster Dataset
Description: Supports all ArcGIS Raster Datasets
Help:
Has Raster Attribute Table: false
Edit Fields Info: null
Ownership Based AccessControl For Rasters: null
Child Resources:
Info
Histograms
Statistics
Key Properties
Legend
Raster Function Infos
Supported Operations:
Export Image
Identify
Measure
Compute Histograms
Compute Statistics Histograms
Get Samples
Compute Class Statistics
Query Boundary
Compute Pixel Location
Compute Angles
Validate
Project