View In:
ArcGIS JavaScript
ArcGIS Online Map Viewer
ArcGIS Earth
Service Description: ORTO
Name: ORTO
Description:
Single Fused Map Cache: false
Extent:
XMin: 578846.783599
YMin: 2101701.604623
XMax: 582380.8835989999
YMax: 2110805.404623
Spatial Reference: 32614
(32614)
Initial Extent:
XMin: 578846.783599
YMin: 2101701.604623
XMax: 582380.8835989999
YMax: 2110805.404623
Spatial Reference: 32614
(32614)
Full Extent:
XMin: 578846.783599
YMin: 2101701.604623
XMax: 582380.8835989999
YMax: 2110805.404623
Spatial Reference: 32614
(32614)
Pixel Size X: 0.09999999999999934
Pixel Size Y: 0.09999999999999795
Band Count: 3
Pixel Type: U8
RasterFunction Infos: {"rasterFunctionInfos": [{
"name": "None",
"description": "",
"help": ""
}]}
Mensuration Capabilities: Basic
Inspection Capabilities:
Has Histograms: true
Has Colormap: false
Has Multi Dimensions : false
Rendering Rule:
Min Scale: 0
Max Scale: 0
Copyright Text:
Service Data Type: esriImageServiceDataTypeRGB
Min Values: 0, 0, 0
Max Values: 255, 255, 255
Mean Values: 50.988050130218, 48.01817966932, 46.30707046219
Standard Deviation Values: 70.067884169122, 65.120161212184, 62.801218705698
Object ID Field:
Fields:
None
Default Mosaic Method: Center
Allowed Mosaic Methods:
SortField:
SortValue: null
Mosaic Operator: First
Default Compression Quality: 75
Default Resampling Method: Bilinear
Max Record Count: null
Max Image Height: 4100
Max Image Width: 15000
Max Download Image Count: null
Max Mosaic Image Count: null
Allow Raster Function: true
Allow Copy: true
Allow Analysis: true
Allow Compute TiePoints: false
Supports Statistics: false
Supports Advanced Queries: false
Use StandardizedQueries: true
Raster Type Infos:
Name: Raster Dataset
Description: Supports all ArcGIS Raster Datasets
Help:
Has Raster Attribute Table: false
Edit Fields Info: null
Ownership Based AccessControl For Rasters: null
Child Resources:
Info
Histograms
Statistics
Key Properties
Legend
Raster Function Infos
Supported Operations:
Export Image
Identify
Measure
Compute Histograms
Compute Statistics Histograms
Get Samples
Compute Class Statistics
Query Boundary
Compute Pixel Location
Compute Angles
Validate
Project