View In:
ArcGIS JavaScript
ArcGIS Online Map Viewer
ArcGIS Earth
Service Description: OrtoL01024F116_tif
Name: OrtoL01024F116_tif
Description:
Single Fused Map Cache: false
Extent:
XMin: 576776.2000000001
YMin: 2103817.8000000003
XMax: 577889.8
YMax: 2104649.8000000003
Spatial Reference: 32614
(32614)
Initial Extent:
XMin: 576776.2000000001
YMin: 2103817.8000000003
XMax: 577889.8
YMax: 2104649.8000000003
Spatial Reference: 32614
(32614)
Full Extent:
XMin: 576776.2000000001
YMin: 2103817.8000000003
XMax: 577889.8
YMax: 2104649.8000000003
Spatial Reference: 32614
(32614)
Pixel Size X: 0.19999999999999582
Pixel Size Y: 0.2
Band Count: 3
Pixel Type: U8
RasterFunction Infos: {"rasterFunctionInfos": [{
"name": "None",
"description": "",
"help": ""
}]}
Mensuration Capabilities: Basic
Inspection Capabilities:
Has Histograms: true
Has Colormap: false
Has Multi Dimensions : false
Rendering Rule:
Min Scale: 0
Max Scale: 0
Copyright Text:
Service Data Type: esriImageServiceDataTypeRGB
Min Values: 0, 0, 0
Max Values: 255, 255, 255
Mean Values: 98.398593482343, 92.881620722453, 91.611214365394
Standard Deviation Values: 61.466413857948, 58.627849440947, 57.608920451476
Object ID Field:
Fields:
None
Default Mosaic Method: Center
Allowed Mosaic Methods:
SortField:
SortValue: null
Mosaic Operator: First
Default Compression Quality: 75
Default Resampling Method: Bilinear
Max Record Count: null
Max Image Height: 4100
Max Image Width: 15000
Max Download Image Count: null
Max Mosaic Image Count: null
Allow Raster Function: true
Allow Copy: true
Allow Analysis: true
Allow Compute TiePoints: false
Supports Statistics: false
Supports Advanced Queries: false
Use StandardizedQueries: true
Raster Type Infos:
Name: Raster Dataset
Description: Supports all ArcGIS Raster Datasets
Help:
Has Raster Attribute Table: false
Edit Fields Info: null
Ownership Based AccessControl For Rasters: null
Child Resources:
Info
Histograms
Statistics
Key Properties
Legend
Raster Function Infos
Supported Operations:
Export Image
Identify
Measure
Compute Histograms
Compute Statistics Histograms
Get Samples
Compute Class Statistics
Query Boundary
Compute Pixel Location
Compute Angles
Validate
Project