View In:
ArcGIS JavaScript
ArcGIS Online Map Viewer
ArcGIS Earth
Service Description: PREDIAL_CANCUN_ORTOFOTO
Name: PREDIAL_CANCUN_ORTOFOTO
Description:
Single Fused Map Cache: false
Extent:
XMin: 518519.5195629038
YMin: 2341578.1724733496
XMax: 519945.41956290364
YMax: 2342616.4724733494
Spatial Reference: 32616
(32616)
Initial Extent:
XMin: 518519.5195629038
YMin: 2341578.1724733496
XMax: 519945.41956290364
YMax: 2342616.4724733494
Spatial Reference: 32616
(32616)
Full Extent:
XMin: 518519.5195629038
YMin: 2341578.1724733496
XMax: 519945.41956290364
YMax: 2342616.4724733494
Spatial Reference: 32616
(32616)
Pixel Size X: 0.09999999999998939
Pixel Size Y: 0.09999999999998206
Band Count: 3
Pixel Type: U8
RasterFunction Infos: {"rasterFunctionInfos": [{
"name": "None",
"description": "",
"help": ""
}]}
Mensuration Capabilities: Basic
Inspection Capabilities:
Has Histograms: true
Has Colormap: false
Has Multi Dimensions : false
Rendering Rule:
Min Scale: 0
Max Scale: 0
Copyright Text:
Service Data Type: esriImageServiceDataTypeRGB
Min Values: 0, 0, 0
Max Values: 255, 255, 255
Mean Values: 79.7879627477784, 83.66329899717056, 85.4534112795229
Standard Deviation Values: 66.05725297009086, 62.831454784856376, 59.29807901380557
Object ID Field:
Fields:
None
Default Mosaic Method: Center
Allowed Mosaic Methods:
SortField:
SortValue: null
Mosaic Operator: First
Default Compression Quality: 75
Default Resampling Method: Bilinear
Max Record Count: null
Max Image Height: 4100
Max Image Width: 15000
Max Download Image Count: null
Max Mosaic Image Count: null
Allow Raster Function: true
Allow Copy: true
Allow Analysis: true
Allow Compute TiePoints: false
Supports Statistics: false
Supports Advanced Queries: false
Use StandardizedQueries: true
Raster Type Infos:
Name: Raster Dataset
Description: Supports all ArcGIS Raster Datasets
Help:
Has Raster Attribute Table: false
Edit Fields Info: null
Ownership Based AccessControl For Rasters: null
Child Resources:
Info
Histograms
Statistics
Key Properties
Legend
Raster Function Infos
Supported Operations:
Export Image
Identify
Measure
Compute Histograms
Compute Statistics Histograms
Get Samples
Compute Class Statistics
Query Boundary
Compute Pixel Location
Compute Angles
Validate
Project