View In:
ArcGIS JavaScript
ArcGIS Online Map Viewer
ArcGIS Earth
Service Description: PREDIAL_CUAUTLANCINGO_ORTOFOTO_2020
Name: PREDIAL_CUAUTLANCINGO_ORTOFOTO_2020
Description:
Single Fused Map Cache: false
Extent:
XMin: 573110.1
YMin: 2105779.7000000034
XMax: 582033.3999999973
YMax: 2119071.5999999996
Spatial Reference: 32614
(32614)
Initial Extent:
XMin: 573110.1
YMin: 2105779.7000000034
XMax: 582033.3999999973
YMax: 2119071.5999999996
Spatial Reference: 32614
(32614)
Full Extent:
XMin: 573110.1
YMin: 2105779.7000000034
XMax: 582033.3999999973
YMax: 2119071.5999999996
Spatial Reference: 32614
(32614)
Pixel Size X: 0.09999999999997052
Pixel Size Y: 0.09999999999997128
Band Count: 4
Pixel Type: U8
RasterFunction Infos: {"rasterFunctionInfos": [{
"name": "None",
"description": "",
"help": ""
}]}
Mensuration Capabilities: Basic
Inspection Capabilities:
Has Histograms: true
Has Colormap: false
Has Multi Dimensions : false
Rendering Rule:
Min Scale: 0
Max Scale: 0
Copyright Text:
Service Data Type: esriImageServiceDataTypeGeneric
Min Values: 0, 0, 0, 0
Max Values: 247, 249, 247, 255
Mean Values: 119.25932721713, 112.95412844037, 110.28195718654, 132.55559440559
Standard Deviation Values: 40.898352742375, 39.080028919206, 38.67587429443, 124.90246286979
Object ID Field:
Fields:
None
Default Mosaic Method: Center
Allowed Mosaic Methods:
SortField:
SortValue: null
Mosaic Operator: First
Default Compression Quality: 75
Default Resampling Method: Bilinear
Max Record Count: null
Max Image Height: 4100
Max Image Width: 15000
Max Download Image Count: null
Max Mosaic Image Count: null
Allow Raster Function: true
Allow Copy: true
Allow Analysis: true
Allow Compute TiePoints: false
Supports Statistics: false
Supports Advanced Queries: false
Use StandardizedQueries: true
Raster Type Infos:
Name: Raster Dataset
Description: Supports all ArcGIS Raster Datasets
Help:
Has Raster Attribute Table: false
Edit Fields Info: null
Ownership Based AccessControl For Rasters: null
Child Resources:
Info
Histograms
Statistics
Key Properties
Legend
Raster Function Infos
Supported Operations:
Export Image
Identify
Measure
Compute Histograms
Compute Statistics Histograms
Get Samples
Compute Class Statistics
Query Boundary
Compute Pixel Location
Compute Angles
Validate
Project